BEGIN:VCALENDAR
VERSION:2.0
PRODID:-//Coro di Ozieri - ECPv6.15.20//NONSGML v1.0//EN
CALSCALE:GREGORIAN
METHOD:PUBLISH
X-ORIGINAL-URL:https://www.corodiozieri.it
X-WR-CALDESC:Eventi per Coro di Ozieri
REFRESH-INTERVAL;VALUE=DURATION:PT1H
X-Robots-Tag:noindex
X-PUBLISHED-TTL:PT1H
BEGIN:VTIMEZONE
TZID:Europe/Rome
BEGIN:DAYLIGHT
TZOFFSETFROM:+0100
TZOFFSETTO:+0200
TZNAME:CEST
DTSTART:20160327T010000
END:DAYLIGHT
BEGIN:STANDARD
TZOFFSETFROM:+0200
TZOFFSETTO:+0100
TZNAME:CET
DTSTART:20161030T010000
END:STANDARD
BEGIN:DAYLIGHT
TZOFFSETFROM:+0100
TZOFFSETTO:+0200
TZNAME:CEST
DTSTART:20170326T010000
END:DAYLIGHT
BEGIN:STANDARD
TZOFFSETFROM:+0200
TZOFFSETTO:+0100
TZNAME:CET
DTSTART:20171029T010000
END:STANDARD
BEGIN:DAYLIGHT
TZOFFSETFROM:+0100
TZOFFSETTO:+0200
TZNAME:CEST
DTSTART:20180325T010000
END:DAYLIGHT
BEGIN:STANDARD
TZOFFSETFROM:+0200
TZOFFSETTO:+0100
TZNAME:CET
DTSTART:20181028T010000
END:STANDARD
END:VTIMEZONE
BEGIN:VEVENT
DTSTART;VALUE=DATE:20171104
DTEND;VALUE=DATE:20171106
DTSTAMP:20260420T103156
CREATED:20170907T080330Z
LAST-MODIFIED:20170907T080330Z
UID:213-1509764400-1509850799@www.corodiozieri.it
SUMMARY:Ozieri - 04 novembre
DESCRIPTION:Il giorno 4 novembre 2017\, al Teatro Civico di Ozieri di terrà la Cerimonia e la Festa per celebrare il 40ennale della fondazione del Coro Città di Ozieri.
URL:https://www.corodiozieri.it/evento/ozieri-04-novembre/
LOCATION:Teatro Civico\, Ozieri\, 07014\, Italia
ATTACH;FMTTYPE=image/jpeg:https://www.corodiozieri.it/wp-content/uploads/2017/09/foto03.jpg
ORGANIZER;CN="Coro Citt%C3%A0 di Ozieri":MAILTO:info@corodiozieri.it
END:VEVENT
BEGIN:VEVENT
DTSTART;VALUE=DATE:20171021
DTEND;VALUE=DATE:20171023
DTSTAMP:20260420T103156
CREATED:20170907T080619Z
LAST-MODIFIED:20170907T080619Z
UID:220-1508554800-1508641199@www.corodiozieri.it
SUMMARY:Ozieri - 21 ottobre
DESCRIPTION:Esibizione per la Messa del Matrimonio del 21 ottobre 2017 a Ozieri.
URL:https://www.corodiozieri.it/evento/ozieri-21-ottobre/
LOCATION:OZIERI\, 07014\, Italia
ATTACH;FMTTYPE=image/jpeg:https://www.corodiozieri.it/wp-content/uploads/2017/09/2015-01-05-13.14.jpg
ORGANIZER;CN="Coro Citt%C3%A0 di Ozieri":MAILTO:info@corodiozieri.it
END:VEVENT
BEGIN:VEVENT
DTSTART;VALUE=DATE:20170923
DTEND;VALUE=DATE:20170925
DTSTAMP:20260420T103156
CREATED:20170906T144216Z
LAST-MODIFIED:20170910T112939Z
UID:138-1506135600-1506221999@www.corodiozieri.it
SUMMARY:Ozieri - 23 settembre 2017
DESCRIPTION:Esibizione per la Messa del Matrimonio del 23 settembre 2017 a Ozieri.
URL:https://www.corodiozieri.it/evento/ozieri-23-settembre-2017/
LOCATION:OZIERI\, 07014\, Italia
ATTACH;FMTTYPE=image/jpeg:https://www.corodiozieri.it/wp-content/uploads/2017/09/2015-01-05-13.14.jpg
ORGANIZER;CN="Coro Citt%C3%A0 di Ozieri":MAILTO:info@corodiozieri.it
END:VEVENT
BEGIN:VEVENT
DTSTART;VALUE=DATE:20170917
DTEND;VALUE=DATE:20170919
DTSTAMP:20260420T103156
CREATED:20170907T080452Z
LAST-MODIFIED:20170910T112854Z
UID:217-1505617200-1505703599@www.corodiozieri.it
SUMMARY:Ozieri - 17 settembre
DESCRIPTION:Esibizione per la Messa del Matrimonio del 17 settembre 2017 alla Chiesa di San Francesco a Ozieri.
URL:https://www.corodiozieri.it/evento/ozieri-19-settembre/
LOCATION:OZIERI\, 07014\, Italia
ATTACH;FMTTYPE=image/jpeg:https://www.corodiozieri.it/wp-content/uploads/2017/09/Ozieri_-_Chiesa_di_San_Francesco_08.jpg
ORGANIZER;CN="Coro Citt%C3%A0 di Ozieri":MAILTO:info@corodiozieri.it
END:VEVENT
BEGIN:VEVENT
DTSTART;VALUE=DATE:20170910
DTEND;VALUE=DATE:20170911
DTSTAMP:20260420T103156
CREATED:20170906T143437Z
LAST-MODIFIED:20170906T143825Z
UID:119-1505012400-1505087999@www.corodiozieri.it
SUMMARY:Ozieri - 10 settembre 2017
DESCRIPTION:Esibizione per la Messa del Matrimonio del 10 settembre 2017 alla Chiesa del Carmelo di Ozieri.
URL:https://www.corodiozieri.it/evento/ozieri-10-settembre-2017/
LOCATION:CHIESA DEL CARMELO\, OZIERI\, 07014\, Italia
ATTACH;FMTTYPE=image/jpeg:https://www.corodiozieri.it/wp-content/uploads/2017/09/carmelo2.jpg
ORGANIZER;CN="Coro Citt%C3%A0 di Ozieri":MAILTO:info@corodiozieri.it
END:VEVENT
END:VCALENDAR